BEGIN:VCALENDAR
VERSION:2.0
PRODID:-//195.7.226.157//NONSGML kigkonsult.se iCalcreator 2.20//
CALSCALE:GREGORIAN
METHOD:PUBLISH
X-FROM-URL:http://clanecommunity.ie
X-WR-TIMEZONE:Europe/Dublin
BEGIN:VTIMEZONE
TZID:Europe/Dublin
X-LIC-LOCATION:Europe/Dublin
BEGIN:STANDARD
DTSTART:20171029T020000
TZOFFSETFROM:+0100
TZOFFSETTO:+0000
TZNAME:GMT
END:STANDARD
BEGIN:DAYLIGHT
DTSTART:20180325T010000
TZOFFSETFROM:+0000
TZOFFSETTO:+0100
TZNAME:IST
END:DAYLIGHT
END:VTIMEZONE
BEGIN:VEVENT
UID:ai1ec-3639@clanecommunity.ie
DTSTAMP:20171103T105234Z
CATEGORIES;LANGUAGE=en-US:Clane Musical Society
CONTACT:clanemusicalsociety@gmail.com
DESCRIPTION:A production of Cole Porter’s Kiss me\, Kate\, by Clane Musical
  and Dramatic Society. All welcome!
DTSTART;TZID=Europe/Dublin:20160411T190000
DTEND;TZID=Europe/Dublin:20160411T220000
LOCATION:The Abbey @ Clane
RRULE:FREQ=DAILY;UNTIL=20160416T235959Z
SEQUENCE:0
SUMMARY:Clane Musical and Dramatic Society: Kiss me\, Kate
URL:http://clanecommunity.ie/event/clane-musical-and-dramatic-society-kiss-
 me-kate/
X-ALT-DESC;FMTTYPE=text/html:<!DOCTYPE HTML PUBLIC '-//W3C//DTD HTML 3.2//E
 N'>\\n<HTML>\\n<HEAD>\\n<TITLE></TITLE>\\n</HEAD>\\n<BODY><p>A production 
 of Cole Porter’s Kiss me\, Kate\, by Clane Musical and Dramatic Society. A
 ll welcome!</p>\n</BODY></HTML>
X-TAGS;LANGUAGE=en-US:Family\,Show
END:VEVENT
BEGIN:VEVENT
UID:ai1ec-3851@clanecommunity.ie
DTSTAMP:20171103T105234Z
CATEGORIES;LANGUAGE=en-US:Clane Musical Society\,Community Event
CONTACT:Clane Musical and Dramatic Society
DESCRIPTION:Clane Musical and Dramatic society are delighted to invite you 
 to their upcoming Musical ‘Carousel’\, being performed from 1st to 6th May
  in the Abbey\, Clane.\nWritten in 1945\, the story revolves around carous
 el barker Billy Bigelow\, whose romance with millworker Julie Jordan comes
  at the price of both their jobs. He attempts a robbery to provide for Jul
 ie and their unborn child\; after it goes wrong\, he is given a chance to 
 make things right. A secondary plot line deals with millworker Carrie Pipp
 eridge and her romance with ambitious fisherman Enoch Snow. The show inclu
 des the well-known songs “If I Loved You“\, “June Is Bustin’ Out All Over”
  and “You’ll Never Walk Alone“.\nWe would also like to wish Val Brennan a 
 full recovery\, who can no longer do the show due to an unfortunate illnes
 s\, and to thank Arthur McGauran for stepping in to fill Val’s shoes in th
 e upcoming performances.\nTickets are available from Marron’s Pharmacy or 
 by phoning Anne on 087 6897376 We hope to see you all come along for what 
 will be a fantastic show. For more information email clanemusicalsociety@ 
 gmail.com Looking forward to seeing you there.\n 
DTSTART;TZID=Europe/Dublin:20170501T200000
DTEND;TZID=Europe/Dublin:20170501T213000
LOCATION:Abbey Community Centre @ Clane
RRULE:FREQ=DAILY;UNTIL=20170506T235959Z
SEQUENCE:0
SUMMARY:Carousel – The Musical
URL:http://clanecommunity.ie/event/carousel-the-musical/
X-COST-TYPE:external
X-ALT-DESC;FMTTYPE=text/html:<!DOCTYPE HTML PUBLIC '-//W3C//DTD HTML 3.2//E
 N'>\\n<HTML>\\n<HEAD>\\n<TITLE></TITLE>\\n</HEAD>\\n<BODY><p>Clane Musical
  and Dramatic society are delighted to invite you to their upcoming Musica
 l ‘Carousel’\, being performed from 1st to 6th May in the Abbey\, Clane.</
 p>\n<p>Written in 1945\, the story revolves around carousel barker Billy B
 igelow\, whose romance with millworker Julie Jordan comes at the price of 
 both their jobs. He attempts a robbery to provide for Julie and their unbo
 rn child\; after it goes wrong\, he is given a chance to make things right
 . A secondary plot line deals with millworker Carrie Pipperidge and her ro
 mance with ambitious fisherman Enoch Snow. The show includes the well-know
 n songs “<a href='https://en.wikipedia.org/wiki/If_I_Loved_You'>If I Loved
  You</a>“\, “June Is Bustin’ Out All Over” and “<a href='https://en.wikipe
 dia.org/wiki/You%27ll_Never_Walk_Alone'>You’ll Never Walk Alone</a>“.</p>
 \n<p>We would also like to wish Val Brennan a full recovery\, who can no l
 onger do the show due to an unfortunate illness\, and to thank Arthur McGa
 uran for stepping in to fill Val’s shoes in the upcoming performances.</p>
 \n<p>Tickets are available from Marron’s Pharmacy or by phoning Anne on 08
 7 6897376 We hope to see you all come along for what will be a fantastic s
 how. For more information email clanemusicalsociety@ gmail.com Looking for
 ward to seeing you there.</p>\n<p> </p>\n</BODY></HTML>
X-TAGS;LANGUAGE=en-US:Family\,Show
END:VEVENT
END:VCALENDAR
